BEGIN:VCALENDAR
VERSION:2.0
PRODID:-//Esperanza Eating Disorders Center San Antonio Texas - ECPv6.15.11//NONSGML v1.0//EN
CALSCALE:GREGORIAN
METHOD:PUBLISH
X-ORIGINAL-URL:https://esperanzaedc.com
X-WR-CALDESC:Events for Esperanza Eating Disorders Center San Antonio Texas
REFRESH-INTERVAL;VALUE=DURATION:PT1H
X-Robots-Tag:noindex
X-PUBLISHED-TTL:PT1H
BEGIN:VTIMEZONE
TZID:UTC
BEGIN:STANDARD
TZOFFSETFROM:+0000
TZOFFSETTO:+0000
TZNAME:UTC
DTSTART:20220101T000000
END:STANDARD
END:VTIMEZONE
BEGIN:VEVENT
DTSTART;TZID=UTC:20231128T120000
DTEND;TZID=UTC:20231128T130000
DTSTAMP:20260423T063456
CREATED:20231116T215608Z
LAST-MODIFIED:20231116T220524Z
UID:2941-1701172800-1701176400@esperanzaedc.com
SUMMARY:Starlite Recovery Center : Continuing Education Webinar Series
DESCRIPTION:Free CE hour\nNovember 28th at 12 pm CST\n\n\n\n\n“Co-morbid Eating Disorders and Substance Use Disorder”\npresented by:\nSusan C Mengden\, PhD\, CGP\, CEDS-C
URL:https://esperanzaedc.com/event/starlite-recovery-center-continuing-education-webinar-series/
ORGANIZER;CN="Starlite Recovery Center":MAILTO:roy.perez@starliterecovery.com
END:VEVENT
END:VCALENDAR