BEGIN:VCALENDAR
VERSION:2.0
PRODID:-//Esperanza Eating Disorders Center San Antonio Texas - ECPv6.15.11//NONSGML v1.0//EN
CALSCALE:GREGORIAN
METHOD:PUBLISH
X-WR-CALNAME:Esperanza Eating Disorders Center San Antonio Texas
X-ORIGINAL-URL:https://esperanzaedc.com
X-WR-CALDESC:Events for Esperanza Eating Disorders Center San Antonio Texas
REFRESH-INTERVAL;VALUE=DURATION:PT1H
X-Robots-Tag:noindex
X-PUBLISHED-TTL:PT1H
BEGIN:VTIMEZONE
TZID:UTC
BEGIN:STANDARD
TZOFFSETFROM:+0000
TZOFFSETTO:+0000
TZNAME:UTC
DTSTART:20230101T000000
END:STANDARD
END:VTIMEZONE
BEGIN:VEVENT
DTSTART;TZID=UTC:20240503T083000
DTEND;TZID=UTC:20240503T183000
DTSTAMP:20260422T230636
CREATED:20240220T220905Z
LAST-MODIFIED:20240403T200456Z
UID:3096-1714725000-1714761000@esperanzaedc.com
SUMMARY:San Antonio iaedp Chapter "Recovering the Possible" 2024 Annual Conference
DESCRIPTION:
URL:https://esperanzaedc.com/event/san-antonio-iaedp-chapter-recovering-the-possible-2024-annual-symposium/
LOCATION:Voigt Center\, 701 El Portal Dr\, Hollywood Park\, TX\, 78232\, United States
END:VEVENT
END:VCALENDAR