BEGIN:VCALENDAR
VERSION:2.0
PRODID:-//Esperanza Eating Disorders Center San Antonio Texas - ECPv6.15.11//NONSGML v1.0//EN
CALSCALE:GREGORIAN
METHOD:PUBLISH
X-WR-CALNAME:Esperanza Eating Disorders Center San Antonio Texas
X-ORIGINAL-URL:https://esperanzaedc.com
X-WR-CALDESC:Events for Esperanza Eating Disorders Center San Antonio Texas
REFRESH-INTERVAL;VALUE=DURATION:PT1H
X-Robots-Tag:noindex
X-PUBLISHED-TTL:PT1H
BEGIN:VTIMEZONE
TZID:UTC
BEGIN:STANDARD
TZOFFSETFROM:+0000
TZOFFSETTO:+0000
TZNAME:UTC
DTSTART:20230101T000000
END:STANDARD
END:VTIMEZONE
BEGIN:VEVENT
DTSTART;TZID=UTC:20240517T090000
DTEND;TZID=UTC:20240517T103000
DTSTAMP:20260422T230524
CREATED:20240227T223234Z
LAST-MODIFIED:20240416T165104Z
UID:3106-1715936400-1715941800@esperanzaedc.com
SUMMARY:Esperanza Teach & Tour
DESCRIPTION:
URL:https://esperanzaedc.com/event/esperanza-teach-tour/
LOCATION:Esperanza Eating Disorders Center\, 140 Heimer Rd\, Ste 400\, San Antonio\, 78232\, United States
ORGANIZER;CN="Outreach - Esperanza EDC":MAILTO:halliel@EsperanzaEDC.com
END:VEVENT
END:VCALENDAR