BEGIN:VCALENDAR
VERSION:2.0
PRODID:-//Esperanza Eating Disorders Center San Antonio Texas - ECPv6.15.11//NONSGML v1.0//EN
CALSCALE:GREGORIAN
METHOD:PUBLISH
X-ORIGINAL-URL:https://esperanzaedc.com
X-WR-CALDESC:Events for Esperanza Eating Disorders Center San Antonio Texas
REFRESH-INTERVAL;VALUE=DURATION:PT1H
X-Robots-Tag:noindex
X-PUBLISHED-TTL:PT1H
BEGIN:VTIMEZONE
TZID:UTC
BEGIN:STANDARD
TZOFFSETFROM:+0000
TZOFFSETTO:+0000
TZNAME:UTC
DTSTART:20240101T000000
END:STANDARD
END:VTIMEZONE
BEGIN:VEVENT
DTSTART;TZID=UTC:20251205T180000
DTEND;TZID=UTC:20251205T200000
DTSTAMP:20260420T084222
CREATED:20251205T193938Z
LAST-MODIFIED:20251205T193952Z
UID:3923-1764957600-1764964800@esperanzaedc.com
SUMMARY:iaedp SA Q4 Chapter Meeting + Presentation + Christmas Party
DESCRIPTION:
URL:https://esperanzaedc.com/event/iaedp-sa-q4-chapter-meeting-presentation-christmas-party/
LOCATION:534 Country Lane\, 534 Country Lane\, San Antonio\, TX\, 78209\, United States
END:VEVENT
END:VCALENDAR