BEGIN:VCALENDAR
VERSION:2.0
PRODID:-//Esperanza Eating Disorders Center San Antonio Texas - ECPv6.15.11//NONSGML v1.0//EN
CALSCALE:GREGORIAN
METHOD:PUBLISH
X-WR-CALNAME:Esperanza Eating Disorders Center San Antonio Texas
X-ORIGINAL-URL:https://esperanzaedc.com
X-WR-CALDESC:Events for Esperanza Eating Disorders Center San Antonio Texas
REFRESH-INTERVAL;VALUE=DURATION:PT1H
X-Robots-Tag:noindex
X-PUBLISHED-TTL:PT1H
BEGIN:VTIMEZONE
TZID:UTC
BEGIN:STANDARD
TZOFFSETFROM:+0000
TZOFFSETTO:+0000
TZNAME:UTC
DTSTART:20220101T000000
END:STANDARD
END:VTIMEZONE
BEGIN:VEVENT
DTSTART;TZID=UTC:20230602T113000
DTEND;TZID=UTC:20230602T130000
DTSTAMP:20260420T213407
CREATED:20230515T204805Z
LAST-MODIFIED:20230515T204805Z
UID:2605-1685705400-1685710800@esperanzaedc.com
SUMMARY:iaedp Foundation SA - Chapter Meeting & Presentation
DESCRIPTION:Eating Disorders in Pregnancy: Pre- and Post-Natal Considerations\nPresented by: Landry Weatherston-Yarborough\, LPC\, CEDS-S\, NCC\nEvent hosted by:  Esperanza Eating Disorders Center\nLunch provided by:  Eating Recovery Center and Pathlight Mood & Anxiety \nWomen with active and historical eating disorders face unique challenges in fertility\, pregnancy\, andpostpartum issues. Not only is it difficult for these patients to discuss eating disorder behaviors with theirproviders\, but providers may also feel at a loss when working with this population. This presentation will address these issues and suggest helpful strategies for screening and intervention.  \nLearning Objectives:  \n\nDiscuss obstetric and gynecological problems related to eating disorders\nExplore barriers to diagnosis of eating disorders in pregnancy\nReview screening processes and treatment interventions\n\nREGISTER AT www.sanantonioiaedp.com 
URL:https://esperanzaedc.com/event/iaedp-foundation-sa-chapter-meeting-presentation/
LOCATION:Esperanza Eating Disorders Center\, 140 Heimer Rd\, Ste 400\, San Antonio\, 78232\, United States
END:VEVENT
BEGIN:VEVENT
DTSTART;TZID=UTC:20230526T120000
DTEND;TZID=UTC:20230526T133000
DTSTAMP:20260420T213407
CREATED:20230515T201455Z
LAST-MODIFIED:20230619T193429Z
UID:2597-1685102400-1685107800@esperanzaedc.com
SUMMARY:TEACH & TOUR
DESCRIPTION:Intuitive Eating for the Treatment of Eating Disorders\nFREE 1-HR CE Presentation and Training with:\nSarah Nichols\, RD\, LD and Susan C. Mengden\, PhD\, CEDS-s\, CGP\nThis presentation will provide an overview of the mental and physical health benefits of Intuitive Eating and the dangers\nassociated with dieting. The aim of this presentation is to provide nutrition information through an anti-diet framework\, and empower attendees to apply the principles discussed into their daily lives. \nFriday\, May 26\, 2023\n12:00pm – 1:30pm*\nEsperanza Eating Disorders Center\n140 Heimer Rd\, Ste 400 \n  \n*Lunch will be included + a tour of our center at the conclusion of the training \nREGISTER ON EVENTBRITE
URL:https://esperanzaedc.com/event/teach-tour/
LOCATION:Esperanza Eating Disorders Center\, 140 Heimer Rd\, Ste 400\, San Antonio\, 78232\, United States
ORGANIZER;CN="Outreach - Esperanza EDC":MAILTO:halliel@EsperanzaEDC.com
END:VEVENT
END:VCALENDAR