BEGIN:VCALENDAR
VERSION:2.0
PRODID:-//Esperanza Eating Disorders Center San Antonio Texas - ECPv6.15.11//NONSGML v1.0//EN
CALSCALE:GREGORIAN
METHOD:PUBLISH
X-WR-CALNAME:Esperanza Eating Disorders Center San Antonio Texas
X-ORIGINAL-URL:https://esperanzaedc.com
X-WR-CALDESC:Events for Esperanza Eating Disorders Center San Antonio Texas
REFRESH-INTERVAL;VALUE=DURATION:PT1H
X-Robots-Tag:noindex
X-PUBLISHED-TTL:PT1H
BEGIN:VTIMEZONE
TZID:UTC
BEGIN:STANDARD
TZOFFSETFROM:+0000
TZOFFSETTO:+0000
TZNAME:UTC
DTSTART:20220101T000000
END:STANDARD
END:VTIMEZONE
BEGIN:VEVENT
DTSTART;TZID=UTC:20230908T113000
DTEND;TZID=UTC:20230908T130000
DTSTAMP:20260423T092544
CREATED:20230623T200224Z
LAST-MODIFIED:20230623T200411Z
UID:2733-1694172600-1694178000@esperanzaedc.com
SUMMARY:iaedp Foundation San Antonio Chapter Meeting & Presentation
DESCRIPTION:Trauma in the Brain and on the Plate\nPresented by: Kasi Howard\, Psy.D.\nEvent hosted by:  Esperanza Eating Disorders Center\nLunch will be provided \nThis teaching will cover how early childhood trauma and later traumatic events impact the brain\, as well as the brain chemistry of individuals with eating disorders. The interaction between the two will be addressed to gain a better understanding of how trauma can impact the development of an eating disorder in certain individuals.  \nLearning Objectives:  \n\n Gain a better understanding of how trauma impacts the brain\n Gain a better understanding of the relationship between trauma andeating disorders\n Gain a better understanding of the treatment of trauma and eatingdisorders \n\nREGISTER AT www.sanantonioiaedp.com  \n1 CE Hour Available – Pending Approval by: iaedp Foundation
URL:https://esperanzaedc.com/event/iaedp-foundation-san-antonio-chapter-meeting-presentation/
END:VEVENT
BEGIN:VEVENT
DTSTART;TZID=UTC:20230929T114500
DTEND;TZID=UTC:20230929T133000
DTSTAMP:20260423T092544
CREATED:20230905T165700Z
LAST-MODIFIED:20230906T205624Z
UID:2870-1695987900-1695994200@esperanzaedc.com
SUMMARY:Teach & Tour
DESCRIPTION:Understanding and Identifying Eating Disorders in Athletes\nFREE 1-HR CE Presentation and Training with: Rebecca “Becca” Moran\, LPC-A\nSupervised by Elizabeth Bright\, LPC-S\nAthletes are statistically at a higher risk for developing eating disorders than non-athletes. Prevention and awareness are key to early intervention. \nIn this presentation/training\, we will discuss the importance of understanding eating disorders and how they affect a person’s body and mind. We will also look at why and how to identify disordered eating early on. Additionally\, we will discuss preexisting guidelines for athletes that are struggling with an eating disorder. \nFriday\, September 29\, 2023\n12:00pm – 1:30pm* \nEsperanza Eating Disorders Center\n140 Heimer Rd\, Ste 400 \nObjectives:\nIdentify eating disorders in athletes\nIdentify medical and mental implications of eating disorders in athletes\nDiscuss resources for coaches for athletes with eating disorders
URL:https://esperanzaedc.com/event/teach-tour-3/
LOCATION:Esperanza Eating Disorders Center\, 140 Heimer Rd\, Ste 400\, San Antonio\, 78232\, United States
ORGANIZER;CN="Outreach - Esperanza EDC":MAILTO:hallien@EsperanzaEDC.com
END:VEVENT
END:VCALENDAR