BEGIN:VCALENDAR
VERSION:2.0
PRODID:-//Esperanza Eating Disorders Center San Antonio Texas - ECPv6.15.11//NONSGML v1.0//EN
CALSCALE:GREGORIAN
METHOD:PUBLISH
X-WR-CALNAME:Esperanza Eating Disorders Center San Antonio Texas
X-ORIGINAL-URL:https://esperanzaedc.com
X-WR-CALDESC:Events for Esperanza Eating Disorders Center San Antonio Texas
REFRESH-INTERVAL;VALUE=DURATION:PT1H
X-Robots-Tag:noindex
X-PUBLISHED-TTL:PT1H
BEGIN:VTIMEZONE
TZID:UTC
BEGIN:STANDARD
TZOFFSETFROM:+0000
TZOFFSETTO:+0000
TZNAME:UTC
DTSTART:20220101T000000
END:STANDARD
END:VTIMEZONE
BEGIN:VEVENT
DTSTART;TZID=UTC:20231020T130000
DTEND;TZID=UTC:20231020T140000
DTSTAMP:20260423T080329
CREATED:20231009T183558Z
LAST-MODIFIED:20231010T155501Z
UID:2899-1697806800-1697810400@esperanzaedc.com
SUMMARY:Special FREE Training Event
DESCRIPTION:Family Based Treatment for Eating Disorders:\nEmpowering Parents and Reducing Patient Relapse\nFREE 1-HR CE PRESENTATION AND TRAINING BY: \nTheresa Fassihi\, PhD\, FAED\, CEDS-C\nheresa Fassihi\, PHD\, FAED\, CEDS-C\, has more than 25 years of experience treating eating disorders at all levels of care and is intensively trained in Family Based Treatment. \nFamily Based Therapy (FBT) is considered Line 1 Treatment for anorexia and bulimia in children and adolescents by the Academy for Eating disorders.  The treatment involves giving parents structure and support for refeeding their children and helping them regain independence in managing their own nutrition.  Emotion Focused Family Therapy (EFFT) provides additional tools for effective communication between parents and their children.  Considerations for how to prepare parents for this challenging work will be discussed. \n3 Learning Objectives \n\nParticipants will be able to describe the three phases of FBT.\nParticipants will be able to apply the five principles of FBT.\nParticipants will recognize the power of parental use of validation in their communication with their children to help them regulate their emotions\, as demonstrated in EFFT.
URL:https://esperanzaedc.com/event/special-edition-teach-tour/
LOCATION:Esperanza Eating Disorders Center\, 140 Heimer Rd\, Ste 400\, San Antonio\, 78232\, United States
ORGANIZER;CN="Outreach - Esperanza EDC":MAILTO:halliel@EsperanzaEDC.com
END:VEVENT
END:VCALENDAR