BEGIN:VCALENDAR
VERSION:2.0
PRODID:-//Esperanza Eating Disorders Center San Antonio Texas - ECPv6.15.11//NONSGML v1.0//EN
CALSCALE:GREGORIAN
METHOD:PUBLISH
X-WR-CALNAME:Esperanza Eating Disorders Center San Antonio Texas
X-ORIGINAL-URL:https://esperanzaedc.com
X-WR-CALDESC:Events for Esperanza Eating Disorders Center San Antonio Texas
REFRESH-INTERVAL;VALUE=DURATION:PT1H
X-Robots-Tag:noindex
X-PUBLISHED-TTL:PT1H
BEGIN:VTIMEZONE
TZID:UTC
BEGIN:STANDARD
TZOFFSETFROM:+0000
TZOFFSETTO:+0000
TZNAME:UTC
DTSTART:20230101T000000
END:STANDARD
END:VTIMEZONE
BEGIN:VEVENT
DTSTART;TZID=UTC:20240203T113000
DTEND;TZID=UTC:20240203T130000
DTSTAMP:20260423T021213
CREATED:20240124T230428Z
LAST-MODIFIED:20240124T231719Z
UID:3042-1706959800-1706965200@esperanzaedc.com
SUMMARY:iaedp Foundation San Antonio Chapter Meeting & Presentation
DESCRIPTION:  \n“Sexuality Considerations in Eating Disorder Treatment” \nPresentation by: Esther Hooley\, PhD\nThis workshop will offer an overview of sexuality considerations in the etiology and treatment of eating concerns. It will also involve practical tools to help clinicians assess for sexual concerns/considerations in client care. This workshop will help participants feel more empowered to assess sexual concerns in an inclusive and honoring manner. \nPresentation & Lunch Sponsored by: Within Health\nLocation: Esperanza Eating Disorders Center \n1 CE hour available pending approval by: iaedp Foundation \nRegistration: Use link to Eventbrite or www.sanantonioiaedp.com website event page
URL:https://esperanzaedc.com/event/iaedp-foundation-san-antonio-chapter-meeting-presentation-2/
LOCATION:Esperanza Eating Disorders Center\, 140 Heimer Rd\, Ste 400\, San Antonio\, 78232\, United States
END:VEVENT
BEGIN:VEVENT
DTSTART;TZID=UTC:20240223T114500
DTEND;TZID=UTC:20240223T133000
DTSTAMP:20260423T021213
CREATED:20240126T175526Z
LAST-MODIFIED:20240213T211442Z
UID:3052-1708688700-1708695000@esperanzaedc.com
SUMMARY:Esperanza Teach & Tour
DESCRIPTION:Esperanza’s Teach & Tour \n“What Goes Into a Well-Weight?”\nPresented by: Sarah Nichols\, RD\, LD\, CEDS\nand\nSusan Mengden\, PhD\, CEDS-C\nThis presentation will provide insight into the processes that Registered Dietitians use to assess an individual’s well-weight throughout the lifespan. We will also discuss how weight stigma and weight bias influence clinical collaboration with dietitians in determining well-weight. \nThe aim of this presentation is to advocate for: \n\nThe role of the Registered Dietitian in eating disorder treatment\nAppropriate well-weights to be established by a dietitian\nAnd to challenge weight-based biases in assessing and setting well-weights\n\n  \nLunch & Tour Provided \n1 CE credit available
URL:https://esperanzaedc.com/event/3052/
END:VEVENT
BEGIN:VEVENT
DTSTART;TZID=UTC:20240229T120000
DTEND;TZID=UTC:20240229T140000
DTSTAMP:20260423T021213
CREATED:20240220T222417Z
LAST-MODIFIED:20240220T222606Z
UID:3098-1709208000-1709215200@esperanzaedc.com
SUMMARY:"Recognizing Eating Disorders & Utilizing Behavioral Treatment" CEU Presentation
DESCRIPTION:
URL:https://esperanzaedc.com/event/recognizing-eating-disorders-utilizing-behavioral-treatment-ceu-presentation/
LOCATION:Fusion Academy\, 227 N Loop 1604 E\, Ste 100\, San Antonio\, TX\, 78232\, United States
END:VEVENT
END:VCALENDAR