BEGIN:VCALENDAR
VERSION:2.0
PRODID:-//Esperanza Eating Disorders Center San Antonio Texas - ECPv6.15.11//NONSGML v1.0//EN
CALSCALE:GREGORIAN
METHOD:PUBLISH
X-ORIGINAL-URL:https://esperanzaedc.com
X-WR-CALDESC:Events for Esperanza Eating Disorders Center San Antonio Texas
REFRESH-INTERVAL;VALUE=DURATION:PT1H
X-Robots-Tag:noindex
X-PUBLISHED-TTL:PT1H
BEGIN:VTIMEZONE
TZID:UTC
BEGIN:STANDARD
TZOFFSETFROM:+0000
TZOFFSETTO:+0000
TZNAME:UTC
DTSTART:20230101T000000
END:STANDARD
END:VTIMEZONE
BEGIN:VEVENT
DTSTART;TZID=UTC:20240903T114500
DTEND;TZID=UTC:20240903T133000
DTSTAMP:20260422T153143
CREATED:20240809T203459Z
LAST-MODIFIED:20240809T203554Z
UID:3350-1725363900-1725370200@esperanzaedc.com
SUMMARY:Teach & Tour Tuesday
DESCRIPTION:
URL:https://esperanzaedc.com/event/teach-tour-tuesday/
LOCATION:Esperanza Eating Disorders Center\, 140 Heimer Rd\, Ste 400\, San Antonio\, 78232\, United States
ORGANIZER;CN="Outreach - Esperanza EDC":MAILTO:halliel@EsperanzaEDC.com
END:VEVENT
BEGIN:VEVENT
DTSTART;TZID=UTC:20240910T120000
DTEND;TZID=UTC:20240910T130000
DTSTAMP:20260422T153143
CREATED:20240903T193646Z
LAST-MODIFIED:20240903T194218Z
UID:3396-1725969600-1725973200@esperanzaedc.com
SUMMARY:Teach & Tour | Recognizing Eating Disorders & Utilizing Effective Treatment Modalities
DESCRIPTION:
URL:https://esperanzaedc.com/event/teach-tour-recognizing-eating-disorders-utilizing-effective-treatment-modalities/
LOCATION:Esperanza Eating Disorders Center\, 140 Heimer Rd\, Ste 400\, San Antonio\, 78232\, United States
ORGANIZER;CN="Outreach - Esperanza EDC":MAILTO:halliel@EsperanzaEDC.com
END:VEVENT
BEGIN:VEVENT
DTSTART;TZID=UTC:20240916T113000
DTEND;TZID=UTC:20240916T133000
DTSTAMP:20260422T153143
CREATED:20240208T183613Z
LAST-MODIFIED:20240805T192948Z
UID:3069-1726486200-1726493400@esperanzaedc.com
SUMMARY:Private School Summit
DESCRIPTION:
URL:https://esperanzaedc.com/event/private-school-summit/
LOCATION:Esperanza Eating Disorders Center\, 140 Heimer Rd\, Ste 400\, San Antonio\, 78232\, United States
ORGANIZER;CN="Outreach - Esperanza EDC":MAILTO:halliel@EsperanzaEDC.com
END:VEVENT
BEGIN:VEVENT
DTSTART;TZID=UTC:20240920T084500
DTEND;TZID=UTC:20240920T100000
DTSTAMP:20260422T153143
CREATED:20240822T212313Z
LAST-MODIFIED:20240903T195249Z
UID:3374-1726821900-1726826400@esperanzaedc.com
SUMMARY:Teach & Tour & Tacos | The Internal Family Systems (IFS) Model & Eating Disorders
DESCRIPTION:
URL:https://esperanzaedc.com/event/teach-tour-tacos-2/
LOCATION:Esperanza Eating Disorders Center\, 140 Heimer Rd\, Ste 400\, San Antonio\, 78232\, United States
END:VEVENT
END:VCALENDAR