BEGIN:VCALENDAR
VERSION:2.0
PRODID:-//Esperanza Eating Disorders Center San Antonio Texas - ECPv6.15.11//NONSGML v1.0//EN
CALSCALE:GREGORIAN
METHOD:PUBLISH
X-ORIGINAL-URL:https://esperanzaedc.com
X-WR-CALDESC:Events for Esperanza Eating Disorders Center San Antonio Texas
REFRESH-INTERVAL;VALUE=DURATION:PT1H
X-Robots-Tag:noindex
X-PUBLISHED-TTL:PT1H
BEGIN:VTIMEZONE
TZID:UTC
BEGIN:STANDARD
TZOFFSETFROM:+0000
TZOFFSETTO:+0000
TZNAME:UTC
DTSTART:20230101T000000
END:STANDARD
END:VTIMEZONE
BEGIN:VEVENT
DTSTART;TZID=UTC:20241010T113000
DTEND;TZID=UTC:20241010T133000
DTSTAMP:20260422T133502
CREATED:20240829T200948Z
LAST-MODIFIED:20240829T201316Z
UID:3388-1728559800-1728567000@esperanzaedc.com
SUMMARY:Advocacy for Mental Health Professionals Networking Luncheon
DESCRIPTION:
URL:https://esperanzaedc.com/event/advocacy-for-mental-health-professionals-networking-luncheon/
LOCATION:Voigt Center\, 701 El Portal Dr\, Hollywood Park\, TX\, 78232\, United States
END:VEVENT
BEGIN:VEVENT
DTSTART;TZID=UTC:20241025T120000
DTEND;TZID=UTC:20241025T130000
DTSTAMP:20260422T133502
CREATED:20241002T160551Z
LAST-MODIFIED:20241002T160658Z
UID:3447-1729857600-1729861200@esperanzaedc.com
SUMMARY:Teach & Tour | Utilizing Acceptance and Commitment Therapy for Eating Disorders
DESCRIPTION:
URL:https://esperanzaedc.com/event/teach-tour-utilizing-acceptance-and-commitment-therapy-for-eating-disorders/
LOCATION:Esperanza Eating Disorders Center\, 140 Heimer Rd\, Ste 400\, San Antonio\, 78232\, United States
ORGANIZER;CN="Outreach - Esperanza EDC":MAILTO:halliel@EsperanzaEDC.com
END:VEVENT
END:VCALENDAR